BEGIN:VCALENDAR
VERSION:2.0
PRODID:-//Sunserve - ECPv6.15.20//NONSGML v1.0//EN
CALSCALE:GREGORIAN
METHOD:PUBLISH
X-WR-CALNAME:Sunserve
X-ORIGINAL-URL:https://sunserve.org
X-WR-CALDESC:Events for Sunserve
REFRESH-INTERVAL;VALUE=DURATION:PT1H
X-Robots-Tag:noindex
X-PUBLISHED-TTL:PT1H
BEGIN:VTIMEZONE
TZID:UTC
BEGIN:STANDARD
TZOFFSETFROM:+0000
TZOFFSETTO:+0000
TZNAME:UTC
DTSTART:20240101T000000
END:STANDARD
END:VTIMEZONE
BEGIN:VEVENT
DTSTART;TZID=UTC:20251230T183000
DTEND;TZID=UTC:20251230T210000
DTSTAMP:20260421T095326
CREATED:20251120T202257Z
LAST-MODIFIED:20251120T203232Z
UID:10002430-1767119400-1767128400@sunserve.org
SUMMARY:Youth Group
DESCRIPTION:Holiday movie night with our Youth Group! (Movie TBD)
URL:https://sunserve.org/event/youth-group-2-6/
LOCATION:SunServe Headquarters\, 750 SE 3rd Avenue\, Floor 3\, Fort Lauderdale\, FL\, 33316\, United States
CATEGORIES:Youth Social Group
END:VEVENT
BEGIN:VEVENT
DTSTART;TZID=UTC:20251230T090000
DTEND;TZID=UTC:20251230T100000
DTSTAMP:20260421T095326
CREATED:20251112T042258Z
LAST-MODIFIED:20251215T000505Z
UID:10000514-1767085200-1767088800@sunserve.org
SUMMARY:Seated Chair Yoga
DESCRIPTION:Offering a calming and inclusive environment where participants can breathe\, stretch\, and relax while learning techniques to support overall well-being. These sessions promote balance\, mindfulness\, and relaxation.
URL:https://sunserve.org/event/seated-chair-yoga/2025-12-30/
LOCATION:AHF Community Room\, 700 SE 3rd Ave\, Floor 1\, Fort Lauderdale\, FL\, 33316\, United States
CATEGORIES:Support Group
ATTACH;FMTTYPE=image/png:https://sunserve.org/wp-content/uploads/2025/11/chair-yoga-sunserve-dec-2025.png
ORGANIZER;CN="SunServe Mental Health":MAILTO:info@sunserve.org
END:VEVENT
BEGIN:VEVENT
DTSTART;TZID=UTC:20251229T183000
DTEND;TZID=UTC:20251229T200000
DTSTAMP:20260421T095326
CREATED:20251112T001037Z
LAST-MODIFIED:20251113T172346Z
UID:10000012-1767033000-1767038400@sunserve.org
SUMMARY:Transmasculine Support Group
DESCRIPTION:Weekly\, virtual support group for transmasculine individuals to encourage\, listen\, talk\, and grow. Talk about your challenges & your triumphs. Led by a mental health professional.
URL:https://sunserve.org/event/transmasculine-support-group/2025-12-29/
LOCATION:Microsoft Teams
CATEGORIES:Support Group
ATTACH;FMTTYPE=image/webp:https://sunserve.org/wp-content/uploads/2025/11/Transmasculine-Support-Group-8.webp
ORGANIZER;CN="SunServe Mental Health":MAILTO:info@sunserve.org
END:VEVENT
BEGIN:VEVENT
DTSTART;TZID=UTC:20251228T140000
DTEND;TZID=UTC:20251228T153000
DTSTAMP:20260421T095326
CREATED:20251112T044028Z
LAST-MODIFIED:20251112T044028Z
UID:10001620-1766930400-1766935800@sunserve.org
SUMMARY:Our Time Expressive Art Therapy
DESCRIPTION:Out Time offers a warm\, uplifting\, and inclusive space where LGBTQ+ seniors can express themselves\, connect with others\, and explore their creativity in a supportive and joyful environment. Led by a social worker.
URL:https://sunserve.org/event/our-time-expressive-art-therapy/2025-12-28/
LOCATION:SunServe Headquarters\, 750 SE 3rd Avenue\, Floor 3\, Fort Lauderdale\, FL\, 33316\, United States
CATEGORIES:Support Group
ATTACH;FMTTYPE=image/png:https://sunserve.org/wp-content/uploads/2025/10/Our-Time-Support-Group-IG-Post-.png
ORGANIZER;CN="SunServe Mental Health":MAILTO:info@sunserve.org
END:VEVENT
BEGIN:VEVENT
DTSTART;TZID=UTC:20251227T170000
DTEND;TZID=UTC:20251227T210000
DTSTAMP:20260421T095326
CREATED:20251112T053224Z
LAST-MODIFIED:20260306T164216Z
UID:10001938-1766854800-1766869200@sunserve.org
SUMMARY:HUNTERS: Pop RoyalTea
DESCRIPTION: POP ROYAL TEA Your New Saturday Afternoon Tea Dance!\n Every last Saturday of the month\n\nGet ready to turn your Saturdays into a royal affair! Hunters Nightclub presents POP ROYAL TEA — a high-energy\, feel-good dance party celebrating the queens of pop music with DJ Drew spinning your favorites and TP Lords keeping the vibe fierce and fabulous.\nExpect iconic music\, fun vibes\, and a crowd full of fabulous people. Whether you’re team Gaga\, team Dua\, or just love a good beat and a strong drink\, this party is your new monthly ritual.\n\n 5 PM – 9 PM Every last Saturday of the month Hunters Nightclub\, Wilton Manors Music by: Live DJs\n Presented with support from:Hunters • Java Joes • OUTSFL HotSpots • Happening Out\n\n A portion of the proceeds benefit: SunServe’s FL AIDS Walk Team\n\n Mark your calendars and bring your crew — it’s POP\, it’s ROYAL\, and it’s a TEA you don’t want to miss.\n\n#PopRoyalTea #HuntersNightclub #SunServe #WeHelpPeople #OUTSFL #WiltonManors #LGBTQ+
URL:https://sunserve.org/event/hunters-pop-royaltea/2025-12-27/
LOCATION:HUNTERS Nightclub – Wilton Manors\, 2232 Wilton Dr\, Wilton Manors\, FL\, 33305\, United States
END:VEVENT
BEGIN:VEVENT
DTSTART;TZID=UTC:20251226T090000
DTEND;TZID=UTC:20251226T100000
DTSTAMP:20260421T095326
CREATED:20251112T043827Z
LAST-MODIFIED:20251215T001028Z
UID:10001359-1766739600-1766743200@sunserve.org
SUMMARY:Mindful Coping Skills
DESCRIPTION:A SunServe Self-Care Group to help you learn mindful tools encompassing emotion-focused and problem-focused strategies with body relaxation techniques.
URL:https://sunserve.org/event/mindful-coping-skills/2025-12-26/
LOCATION:AHF Community Room\, 700 SE 3rd Ave\, Floor 1\, Fort Lauderdale\, FL\, 33316\, United States
CATEGORIES:Self-Care Group
ATTACH;FMTTYPE=image/png:https://sunserve.org/wp-content/uploads/2025/11/coping-skills-sunserve-dec-2025.png
ORGANIZER;CN="SunServe Mental Health":MAILTO:info@sunserve.org
END:VEVENT
BEGIN:VEVENT
DTSTART;TZID=UTC:20251224T183000
DTEND;TZID=UTC:20251224T200000
DTSTAMP:20260421T095326
CREATED:20251112T042638Z
LAST-MODIFIED:20251112T042744Z
UID:10000776-1766601000-1766606400@sunserve.org
SUMMARY:SAFE T Transgender Support Group
DESCRIPTION:This support group provides a safe space for transgender and gender-expansive folks to share life experiences with their peers. Led by a mental health professional.
URL:https://sunserve.org/event/safe-t-transgender-support-group/2025-12-24/
LOCATION:AHF Community Room\, 700 SE 3rd Ave\, Floor 1\, Fort Lauderdale\, FL\, 33316\, United States
CATEGORIES:Support Group
ATTACH;FMTTYPE=image/png:https://sunserve.org/wp-content/uploads/2025/10/SunServe-Safe-T-Support-Group-10-×-10-in-10-x-10.5-in-8.5-x-11-in-Instagram-Post-45.png
ORGANIZER;CN="SunServe Mental Health":MAILTO:info@sunserve.org
END:VEVENT
BEGIN:VEVENT
DTSTART;TZID=UTC:20251224T180000
DTEND;TZID=UTC:20251224T193000
DTSTAMP:20260421T095326
CREATED:20251112T043441Z
LAST-MODIFIED:20251112T043441Z
UID:10001098-1766599200-1766604600@sunserve.org
SUMMARY:SafeHarbor Therapy Group
DESCRIPTION:Safe Harbor is a weekly therapeutic group for gay\, bisexual & transgender men. We invite you to come and speak your mind about your life in South Florida with other GBT men. Led by a mental health professional.
URL:https://sunserve.org/event/safeharbor-therapy-group/2025-12-24/
LOCATION:SunServe Wilton Manors\, 2550 NE 15th Ave\, Fort Lauderdale\, FL\, 33305\, United States
CATEGORIES:Support Group
ATTACH;FMTTYPE=image/png:https://sunserve.org/wp-content/uploads/2025/10/Safe-Harbor-10-x-10-Instagram-Post-45.png
END:VEVENT
BEGIN:VEVENT
DTSTART;TZID=UTC:20251223T193000
DTEND;TZID=UTC:20251223T210000
DTSTAMP:20260421T095326
CREATED:20251120T202224Z
LAST-MODIFIED:20251120T203139Z
UID:10002429-1766518200-1766523600@sunserve.org
SUMMARY:Youth Group
DESCRIPTION:Gingerbread house making activity — which team can build the most unique gingerbread creation?
URL:https://sunserve.org/event/youth-group-2-5/
LOCATION:SunServe Headquarters\, 750 SE 3rd Avenue\, Floor 3\, Fort Lauderdale\, FL\, 33316\, United States
CATEGORIES:Youth Social Group
END:VEVENT
BEGIN:VEVENT
DTSTART;TZID=UTC:20251223T090000
DTEND;TZID=UTC:20251223T100000
DTSTAMP:20260421T095326
CREATED:20251112T042258Z
LAST-MODIFIED:20251215T000505Z
UID:10000513-1766480400-1766484000@sunserve.org
SUMMARY:Seated Chair Yoga
DESCRIPTION:Offering a calming and inclusive environment where participants can breathe\, stretch\, and relax while learning techniques to support overall well-being. These sessions promote balance\, mindfulness\, and relaxation.
URL:https://sunserve.org/event/seated-chair-yoga/2025-12-23/
LOCATION:AHF Community Room\, 700 SE 3rd Ave\, Floor 1\, Fort Lauderdale\, FL\, 33316\, United States
CATEGORIES:Support Group
ATTACH;FMTTYPE=image/png:https://sunserve.org/wp-content/uploads/2025/11/chair-yoga-sunserve-dec-2025.png
ORGANIZER;CN="SunServe Mental Health":MAILTO:info@sunserve.org
END:VEVENT
BEGIN:VEVENT
DTSTART;TZID=UTC:20251222T193000
DTEND;TZID=UTC:20251222T210000
DTSTAMP:20260421T095326
CREATED:20251112T003727Z
LAST-MODIFIED:20251118T200618Z
UID:10000329-1766431800-1766437200@sunserve.org
SUMMARY:Different Drummer/SOFFA Support Group (in-person)
DESCRIPTION:This group is intended for those with transgender loved ones who wish to support & understand them better. This group allows folks to share their thoughts & feelings with individuals who’ve had similar experiences. Led by a mental health professional.
URL:https://sunserve.org/event/soffa-support-group-in-person/2025-12-22/
LOCATION:SunServe Headquarters\, 750 SE 3rd Avenue\, Floor 3\, Fort Lauderdale\, FL\, 33316\, United States
CATEGORIES:Support Group
ATTACH;FMTTYPE=image/png:https://sunserve.org/wp-content/uploads/2025/10/SOFFA-Support-Group-10x10-Instagram-Post-45-1.png
ORGANIZER;CN="SunServe Mental Health":MAILTO:info@sunserve.org
END:VEVENT
BEGIN:VEVENT
DTSTART;TZID=UTC:20251222T183000
DTEND;TZID=UTC:20251222T200000
DTSTAMP:20260421T095326
CREATED:20251112T001037Z
LAST-MODIFIED:20251113T172346Z
UID:10000011-1766428200-1766433600@sunserve.org
SUMMARY:Transmasculine Support Group
DESCRIPTION:Weekly\, virtual support group for transmasculine individuals to encourage\, listen\, talk\, and grow. Talk about your challenges & your triumphs. Led by a mental health professional.
URL:https://sunserve.org/event/transmasculine-support-group/2025-12-22/
LOCATION:Microsoft Teams
CATEGORIES:Support Group
ATTACH;FMTTYPE=image/webp:https://sunserve.org/wp-content/uploads/2025/11/Transmasculine-Support-Group-8.webp
ORGANIZER;CN="SunServe Mental Health":MAILTO:info@sunserve.org
END:VEVENT
BEGIN:VEVENT
DTSTART;TZID=UTC:20251221T140000
DTEND;TZID=UTC:20251221T153000
DTSTAMP:20260421T095326
CREATED:20251112T044028Z
LAST-MODIFIED:20251112T044028Z
UID:10001619-1766325600-1766331000@sunserve.org
SUMMARY:Our Time Expressive Art Therapy
DESCRIPTION:Out Time offers a warm\, uplifting\, and inclusive space where LGBTQ+ seniors can express themselves\, connect with others\, and explore their creativity in a supportive and joyful environment. Led by a social worker.
URL:https://sunserve.org/event/our-time-expressive-art-therapy/2025-12-21/
LOCATION:SunServe Headquarters\, 750 SE 3rd Avenue\, Floor 3\, Fort Lauderdale\, FL\, 33316\, United States
CATEGORIES:Support Group
ATTACH;FMTTYPE=image/png:https://sunserve.org/wp-content/uploads/2025/10/Our-Time-Support-Group-IG-Post-.png
ORGANIZER;CN="SunServe Mental Health":MAILTO:info@sunserve.org
END:VEVENT
BEGIN:VEVENT
DTSTART;TZID=UTC:20251219T090000
DTEND;TZID=UTC:20251219T100000
DTSTAMP:20260421T095326
CREATED:20251112T043827Z
LAST-MODIFIED:20251215T001028Z
UID:10001358-1766134800-1766138400@sunserve.org
SUMMARY:Mindful Coping Skills
DESCRIPTION:A SunServe Self-Care Group to help you learn mindful tools encompassing emotion-focused and problem-focused strategies with body relaxation techniques.
URL:https://sunserve.org/event/mindful-coping-skills/2025-12-19/
LOCATION:AHF Community Room\, 700 SE 3rd Ave\, Floor 1\, Fort Lauderdale\, FL\, 33316\, United States
CATEGORIES:Self-Care Group
ATTACH;FMTTYPE=image/png:https://sunserve.org/wp-content/uploads/2025/11/coping-skills-sunserve-dec-2025.png
ORGANIZER;CN="SunServe Mental Health":MAILTO:info@sunserve.org
END:VEVENT
BEGIN:VEVENT
DTSTART;TZID=UTC:20251217T190000
DTEND;TZID=UTC:20251217T210000
DTSTAMP:20260421T095326
CREATED:20251118T194536Z
LAST-MODIFIED:20251118T205541Z
UID:10002067-1765998000-1766005200@sunserve.org
SUMMARY:Adult Youth Group
DESCRIPTION:Social Group for young adults ages 18-22.
URL:https://sunserve.org/event/adult-youth-group/2025-12-17/
LOCATION:SunServe Headquarters\, 750 SE 3rd Avenue\, Floor 3\, Fort Lauderdale\, FL\, 33316\, United States
CATEGORIES:Young Adult Social Group
END:VEVENT
BEGIN:VEVENT
DTSTART;TZID=UTC:20251217T183000
DTEND;TZID=UTC:20251217T200000
DTSTAMP:20260421T095326
CREATED:20251112T042638Z
LAST-MODIFIED:20251112T042744Z
UID:10000775-1765996200-1766001600@sunserve.org
SUMMARY:SAFE T Transgender Support Group
DESCRIPTION:This support group provides a safe space for transgender and gender-expansive folks to share life experiences with their peers. Led by a mental health professional.
URL:https://sunserve.org/event/safe-t-transgender-support-group/2025-12-17/
LOCATION:AHF Community Room\, 700 SE 3rd Ave\, Floor 1\, Fort Lauderdale\, FL\, 33316\, United States
CATEGORIES:Support Group
ATTACH;FMTTYPE=image/png:https://sunserve.org/wp-content/uploads/2025/10/SunServe-Safe-T-Support-Group-10-×-10-in-10-x-10.5-in-8.5-x-11-in-Instagram-Post-45.png
ORGANIZER;CN="SunServe Mental Health":MAILTO:info@sunserve.org
END:VEVENT
BEGIN:VEVENT
DTSTART;TZID=UTC:20251217T180000
DTEND;TZID=UTC:20251217T193000
DTSTAMP:20260421T095326
CREATED:20251112T043441Z
LAST-MODIFIED:20251112T043441Z
UID:10001097-1765994400-1765999800@sunserve.org
SUMMARY:SafeHarbor Therapy Group
DESCRIPTION:Safe Harbor is a weekly therapeutic group for gay\, bisexual & transgender men. We invite you to come and speak your mind about your life in South Florida with other GBT men. Led by a mental health professional.
URL:https://sunserve.org/event/safeharbor-therapy-group/2025-12-17/
LOCATION:SunServe Wilton Manors\, 2550 NE 15th Ave\, Fort Lauderdale\, FL\, 33305\, United States
CATEGORIES:Support Group
ATTACH;FMTTYPE=image/png:https://sunserve.org/wp-content/uploads/2025/10/Safe-Harbor-10-x-10-Instagram-Post-45.png
END:VEVENT
BEGIN:VEVENT
DTSTART;TZID=UTC:20251216T190000
DTEND;TZID=UTC:20251216T210000
DTSTAMP:20260421T095326
CREATED:20251120T202110Z
LAST-MODIFIED:20251120T202951Z
UID:10002428-1765911600-1765918800@sunserve.org
SUMMARY:Youth Group
DESCRIPTION:A holiday celebration for our youth to participate in fun festivities\, eat holiday treats\, play holiday games\, and share in good company!
URL:https://sunserve.org/event/youth-group-2-4/
LOCATION:SunServe Headquarters\, 750 SE 3rd Avenue\, Floor 3\, Fort Lauderdale\, FL\, 33316\, United States
CATEGORIES:Youth Social Group
END:VEVENT
BEGIN:VEVENT
DTSTART;TZID=UTC:20251216T090000
DTEND;TZID=UTC:20251216T100000
DTSTAMP:20260421T095326
CREATED:20251112T042258Z
LAST-MODIFIED:20251215T000505Z
UID:10000512-1765875600-1765879200@sunserve.org
SUMMARY:Seated Chair Yoga
DESCRIPTION:Offering a calming and inclusive environment where participants can breathe\, stretch\, and relax while learning techniques to support overall well-being. These sessions promote balance\, mindfulness\, and relaxation.
URL:https://sunserve.org/event/seated-chair-yoga/2025-12-16/
LOCATION:AHF Community Room\, 700 SE 3rd Ave\, Floor 1\, Fort Lauderdale\, FL\, 33316\, United States
CATEGORIES:Support Group
ATTACH;FMTTYPE=image/png:https://sunserve.org/wp-content/uploads/2025/11/chair-yoga-sunserve-dec-2025.png
ORGANIZER;CN="SunServe Mental Health":MAILTO:info@sunserve.org
END:VEVENT
BEGIN:VEVENT
DTSTART;TZID=UTC:20251215T183000
DTEND;TZID=UTC:20251215T200000
DTSTAMP:20260421T095326
CREATED:20251112T001037Z
LAST-MODIFIED:20251113T172346Z
UID:10000010-1765823400-1765828800@sunserve.org
SUMMARY:Transmasculine Support Group
DESCRIPTION:Weekly\, virtual support group for transmasculine individuals to encourage\, listen\, talk\, and grow. Talk about your challenges & your triumphs. Led by a mental health professional.
URL:https://sunserve.org/event/transmasculine-support-group/2025-12-15/
LOCATION:Microsoft Teams
CATEGORIES:Support Group
ATTACH;FMTTYPE=image/webp:https://sunserve.org/wp-content/uploads/2025/11/Transmasculine-Support-Group-8.webp
ORGANIZER;CN="SunServe Mental Health":MAILTO:info@sunserve.org
END:VEVENT
BEGIN:VEVENT
DTSTART;TZID=UTC:20251214T140000
DTEND;TZID=UTC:20251214T153000
DTSTAMP:20260421T095326
CREATED:20251112T044028Z
LAST-MODIFIED:20251112T044028Z
UID:10001618-1765720800-1765726200@sunserve.org
SUMMARY:Our Time Expressive Art Therapy
DESCRIPTION:Out Time offers a warm\, uplifting\, and inclusive space where LGBTQ+ seniors can express themselves\, connect with others\, and explore their creativity in a supportive and joyful environment. Led by a social worker.
URL:https://sunserve.org/event/our-time-expressive-art-therapy/2025-12-14/
LOCATION:SunServe Headquarters\, 750 SE 3rd Avenue\, Floor 3\, Fort Lauderdale\, FL\, 33316\, United States
CATEGORIES:Support Group
ATTACH;FMTTYPE=image/png:https://sunserve.org/wp-content/uploads/2025/10/Our-Time-Support-Group-IG-Post-.png
ORGANIZER;CN="SunServe Mental Health":MAILTO:info@sunserve.org
END:VEVENT
BEGIN:VEVENT
DTSTART;TZID=UTC:20251212T110000
DTEND;TZID=UTC:20251212T130000
DTSTAMP:20260421T095326
CREATED:20251112T043134Z
LAST-MODIFIED:20251112T043134Z
UID:10001032-1765537200-1765544400@sunserve.org
SUMMARY:SilverServe Luncheons
DESCRIPTION:SunServe Seniors’ award-winning monthly luncheon\, led by social workers\, is a vibrant gathering that features a free catered meal\, engaging guest presenters\, and a surprise raffle. Co-sponsored by the City of Wilton Manors.
URL:https://sunserve.org/event/silverserve-luncheons/2025-12-12/
LOCATION:Hagen Park Community Center\, 2020 Wilton Drive\, Wilton Manors\, FL\, 33305\, United States
ATTACH;FMTTYPE=image/png:https://sunserve.org/wp-content/uploads/2025/10/SilverServe-generic-Instagram-Post-45.png
ORGANIZER;CN="SunServe Social Services":MAILTO:info@sunserve.org
END:VEVENT
BEGIN:VEVENT
DTSTART;TZID=UTC:20251212T090000
DTEND;TZID=UTC:20251212T100000
DTSTAMP:20260421T095326
CREATED:20251112T043827Z
LAST-MODIFIED:20251215T001028Z
UID:10001357-1765530000-1765533600@sunserve.org
SUMMARY:Mindful Coping Skills
DESCRIPTION:A SunServe Self-Care Group to help you learn mindful tools encompassing emotion-focused and problem-focused strategies with body relaxation techniques.
URL:https://sunserve.org/event/mindful-coping-skills/2025-12-12/
LOCATION:AHF Community Room\, 700 SE 3rd Ave\, Floor 1\, Fort Lauderdale\, FL\, 33316\, United States
CATEGORIES:Self-Care Group
ATTACH;FMTTYPE=image/png:https://sunserve.org/wp-content/uploads/2025/11/coping-skills-sunserve-dec-2025.png
ORGANIZER;CN="SunServe Mental Health":MAILTO:info@sunserve.org
END:VEVENT
BEGIN:VEVENT
DTSTART;TZID=UTC:20251210T190000
DTEND;TZID=UTC:20251210T203000
DTSTAMP:20260421T095326
CREATED:20251118T201728Z
LAST-MODIFIED:20251118T201739Z
UID:10002365-1765393200-1765398600@sunserve.org
SUMMARY:Art Expression Group
DESCRIPTION:Art Expression Therapy Group offers a creative space to explore emotions\, connect with others\, and express yourself through fun\, meaningful art activities and guided discussions.
URL:https://sunserve.org/event/art-expression-group-2/2025-12-10/
LOCATION:SunServe Headquarters\, 750 SE 3rd Avenue\, Floor 3\, Fort Lauderdale\, FL\, 33316\, United States
CATEGORIES:Youth Therapy Group
ATTACH;FMTTYPE=image/png:https://sunserve.org/wp-content/uploads/2025/11/thumbnail_Art-Expression-Group.png
END:VEVENT
BEGIN:VEVENT
DTSTART;TZID=UTC:20251210T183000
DTEND;TZID=UTC:20251210T200000
DTSTAMP:20260421T095326
CREATED:20251112T042638Z
LAST-MODIFIED:20251112T042744Z
UID:10000774-1765391400-1765396800@sunserve.org
SUMMARY:SAFE T Transgender Support Group
DESCRIPTION:This support group provides a safe space for transgender and gender-expansive folks to share life experiences with their peers. Led by a mental health professional.
URL:https://sunserve.org/event/safe-t-transgender-support-group/2025-12-10/
LOCATION:AHF Community Room\, 700 SE 3rd Ave\, Floor 1\, Fort Lauderdale\, FL\, 33316\, United States
CATEGORIES:Support Group
ATTACH;FMTTYPE=image/png:https://sunserve.org/wp-content/uploads/2025/10/SunServe-Safe-T-Support-Group-10-×-10-in-10-x-10.5-in-8.5-x-11-in-Instagram-Post-45.png
ORGANIZER;CN="SunServe Mental Health":MAILTO:info@sunserve.org
END:VEVENT
BEGIN:VEVENT
DTSTART;TZID=UTC:20251210T180000
DTEND;TZID=UTC:20251210T193000
DTSTAMP:20260421T095326
CREATED:20251112T043441Z
LAST-MODIFIED:20251112T043441Z
UID:10001096-1765389600-1765395000@sunserve.org
SUMMARY:SafeHarbor Therapy Group
DESCRIPTION:Safe Harbor is a weekly therapeutic group for gay\, bisexual & transgender men. We invite you to come and speak your mind about your life in South Florida with other GBT men. Led by a mental health professional.
URL:https://sunserve.org/event/safeharbor-therapy-group/2025-12-10/
LOCATION:SunServe Wilton Manors\, 2550 NE 15th Ave\, Fort Lauderdale\, FL\, 33305\, United States
CATEGORIES:Support Group
ATTACH;FMTTYPE=image/png:https://sunserve.org/wp-content/uploads/2025/10/Safe-Harbor-10-x-10-Instagram-Post-45.png
END:VEVENT
BEGIN:VEVENT
DTSTART;TZID=UTC:20251209T193000
DTEND;TZID=UTC:20251209T210000
DTSTAMP:20260421T095326
CREATED:20251120T202009Z
LAST-MODIFIED:20251120T202935Z
UID:10002427-1765308600-1765314000@sunserve.org
SUMMARY:Youth Group
DESCRIPTION:Making DIY snowglobes to take home for the holiday season!
URL:https://sunserve.org/event/youth-group-2-3/
LOCATION:SunServe Headquarters\, 750 SE 3rd Avenue\, Floor 3\, Fort Lauderdale\, FL\, 33316\, United States
CATEGORIES:Youth Social Group
END:VEVENT
BEGIN:VEVENT
DTSTART;TZID=UTC:20251209T190000
DTEND;TZID=UTC:20251209T203000
DTSTAMP:20260421T095326
CREATED:20251112T041526Z
LAST-MODIFIED:20251112T041637Z
UID:10000448-1765306800-1765312200@sunserve.org
SUMMARY:Veterans & Active Duty LGBTQ+ Group
DESCRIPTION:A monthly peer support group to provide communication\, camaraderie & support for any LGBTQ+ veteran or active-duty individual. A safe place to talk about your experiences in and outside of the military. This is a peer-led group.
URL:https://sunserve.org/event/veterans-active-duty-lgbtq-group/2025-12-09/
LOCATION:SunServe Wilton Manors\, 2550 NE 15th Ave\, Fort Lauderdale\, FL\, 33305\, United States
CATEGORIES:Support Group
ATTACH;FMTTYPE=image/png:https://sunserve.org/wp-content/uploads/2025/10/AVER-Veterans-Support-Group-10x10-6.png
ORGANIZER;CN="SunServe Events":MAILTO:info@sunserve.org
END:VEVENT
BEGIN:VEVENT
DTSTART;TZID=UTC:20251209T090000
DTEND;TZID=UTC:20251209T100000
DTSTAMP:20260421T095326
CREATED:20251112T042258Z
LAST-MODIFIED:20251215T000505Z
UID:10000511-1765270800-1765274400@sunserve.org
SUMMARY:Seated Chair Yoga
DESCRIPTION:Offering a calming and inclusive environment where participants can breathe\, stretch\, and relax while learning techniques to support overall well-being. These sessions promote balance\, mindfulness\, and relaxation.
URL:https://sunserve.org/event/seated-chair-yoga/2025-12-09/
LOCATION:AHF Community Room\, 700 SE 3rd Ave\, Floor 1\, Fort Lauderdale\, FL\, 33316\, United States
CATEGORIES:Support Group
ATTACH;FMTTYPE=image/png:https://sunserve.org/wp-content/uploads/2025/11/chair-yoga-sunserve-dec-2025.png
ORGANIZER;CN="SunServe Mental Health":MAILTO:info@sunserve.org
END:VEVENT
BEGIN:VEVENT
DTSTART;TZID=UTC:20251208T193000
DTEND;TZID=UTC:20251208T210000
DTSTAMP:20260421T095326
CREATED:20251112T003346Z
LAST-MODIFIED:20251118T200537Z
UID:10000388-1765222200-1765227600@sunserve.org
SUMMARY:Different Drummer/SOFFA Support Group (online)
DESCRIPTION:This group is intended for those with transgender loved ones who wish to support & understand them better. This group allows folks to share their thoughts & feelings with individuals who’ve had similar experiences. Led by a mental health professional.
URL:https://sunserve.org/event/soffa-support-group-online/2025-12-08/
LOCATION:Microsoft Teams
CATEGORIES:Support Group
ATTACH;FMTTYPE=image/png:https://sunserve.org/wp-content/uploads/2025/10/SOFFA-Support-Group-10x10-Instagram-Post-45-1.png
ORGANIZER;CN="SunServe Mental Health":MAILTO:info@sunserve.org
END:VEVENT
END:VCALENDAR