BEGIN:VCALENDAR
VERSION:2.0
PRODID:-//Sunserve - ECPv6.15.20//NONSGML v1.0//EN
CALSCALE:GREGORIAN
METHOD:PUBLISH
X-WR-CALNAME:Sunserve
X-ORIGINAL-URL:https://sunserve.org
X-WR-CALDESC:Events for Sunserve
REFRESH-INTERVAL;VALUE=DURATION:PT1H
X-Robots-Tag:noindex
X-PUBLISHED-TTL:PT1H
BEGIN:VTIMEZONE
TZID:UTC
BEGIN:STANDARD
TZOFFSETFROM:+0000
TZOFFSETTO:+0000
TZNAME:UTC
DTSTART:20240101T000000
END:STANDARD
END:VTIMEZONE
BEGIN:VEVENT
DTSTART;TZID=UTC:20251124T193000
DTEND;TZID=UTC:20251124T210000
DTSTAMP:20260423T120922
CREATED:20251112T003727Z
LAST-MODIFIED:20251118T200618Z
UID:10000328-1764012600-1764018000@sunserve.org
SUMMARY:Different Drummer/SOFFA Support Group (in-person)
DESCRIPTION:This group is intended for those with transgender loved ones who wish to support & understand them better. This group allows folks to share their thoughts & feelings with individuals who’ve had similar experiences. Led by a mental health professional.
URL:https://sunserve.org/event/soffa-support-group-in-person/2025-11-24/
LOCATION:SunServe Headquarters\, 750 SE 3rd Avenue\, Floor 3\, Fort Lauderdale\, FL\, 33316\, United States
CATEGORIES:Support Group
ATTACH;FMTTYPE=image/png:https://sunserve.org/wp-content/uploads/2025/10/SOFFA-Support-Group-10x10-Instagram-Post-45-1.png
ORGANIZER;CN="SunServe Mental Health":MAILTO:info@sunserve.org
END:VEVENT
BEGIN:VEVENT
DTSTART;TZID=UTC:20251124T183000
DTEND;TZID=UTC:20251124T200000
DTSTAMP:20260423T120922
CREATED:20251112T001037Z
LAST-MODIFIED:20251113T172346Z
UID:10000007-1764009000-1764014400@sunserve.org
SUMMARY:Transmasculine Support Group
DESCRIPTION:Weekly\, virtual support group for transmasculine individuals to encourage\, listen\, talk\, and grow. Talk about your challenges & your triumphs. Led by a mental health professional.
URL:https://sunserve.org/event/transmasculine-support-group/2025-11-24/
LOCATION:Microsoft Teams
CATEGORIES:Support Group
ATTACH;FMTTYPE=image/webp:https://sunserve.org/wp-content/uploads/2025/11/Transmasculine-Support-Group-8.webp
ORGANIZER;CN="SunServe Mental Health":MAILTO:info@sunserve.org
END:VEVENT
BEGIN:VEVENT
DTSTART;TZID=UTC:20251124T100000
DTEND;TZID=UTC:20251124T150000
DTSTAMP:20260423T120922
CREATED:20251112T052312Z
LAST-MODIFIED:20251112T053540Z
UID:10001876-1763978400-1763996400@sunserve.org
SUMMARY:Holiday Meal Support Distribution
DESCRIPTION:🎁 Free Holiday Meal Kits!This season\, thanks to our friends at Rainbow Sports League and LIT Bar\, SunServe is providing free holiday meal kits for clients and families in need. \nEach kit includes shelf-stable essentials and a gift card to purchase a protein of your choice — everything you need to create your own holiday meal. \n📅 Monday\, November 24 | 10 AM – 3 PM📍 SunServe – 750 SE 3rd Ave\, 3rd Floor\, Fort Lauderdale \nReserve your meal kit today at www.SunServe.org/Meal
URL:https://sunserve.org/event/holiday-food-support-distribution/
LOCATION:SunServe Headquarters\, 750 SE 3rd Avenue\, Floor 3\, Fort Lauderdale\, FL\, 33316\, United States
CATEGORIES:Community Resource,Self-Care Group
ATTACH;FMTTYPE=image/jpeg:https://sunserve.org/wp-content/uploads/2025/11/Thanks-giving.jpg
ORGANIZER;CN="SunServe Social Services":MAILTO:info@sunserve.org
END:VEVENT
BEGIN:VEVENT
DTSTART;TZID=UTC:20251123T140000
DTEND;TZID=UTC:20251123T153000
DTSTAMP:20260423T120922
CREATED:20251112T044028Z
LAST-MODIFIED:20251112T044028Z
UID:10001615-1763906400-1763911800@sunserve.org
SUMMARY:Our Time Expressive Art Therapy
DESCRIPTION:Out Time offers a warm\, uplifting\, and inclusive space where LGBTQ+ seniors can express themselves\, connect with others\, and explore their creativity in a supportive and joyful environment. Led by a social worker.
URL:https://sunserve.org/event/our-time-expressive-art-therapy/2025-11-23/
LOCATION:SunServe Headquarters\, 750 SE 3rd Avenue\, Floor 3\, Fort Lauderdale\, FL\, 33316\, United States
CATEGORIES:Support Group
ATTACH;FMTTYPE=image/png:https://sunserve.org/wp-content/uploads/2025/10/Our-Time-Support-Group-IG-Post-.png
ORGANIZER;CN="SunServe Mental Health":MAILTO:info@sunserve.org
END:VEVENT
BEGIN:VEVENT
DTSTART;TZID=UTC:20251122T183000
DTEND;TZID=UTC:20251122T213000
DTSTAMP:20260423T120922
CREATED:20251118T194957Z
LAST-MODIFIED:20251118T195431Z
UID:10002002-1763836200-1763847000@sunserve.org
SUMMARY:Friendsgiving
DESCRIPTION:Friendsgiving celebration! Family and friend’s welcome
URL:https://sunserve.org/event/friendsgiving/
LOCATION:SunServe Headquarters\, 750 SE 3rd Avenue\, Floor 3\, Fort Lauderdale\, FL\, 33316\, United States
CATEGORIES:Youth Event
ATTACH;FMTTYPE=image/jpeg:https://sunserve.org/wp-content/uploads/2025/11/PHOTO-2025-11-18-12-41-50.jpg
END:VEVENT
BEGIN:VEVENT
DTSTART;TZID=UTC:20251121T090000
DTEND;TZID=UTC:20251121T100000
DTSTAMP:20260423T120922
CREATED:20251112T043827Z
LAST-MODIFIED:20251215T001028Z
UID:10001354-1763715600-1763719200@sunserve.org
SUMMARY:Mindful Coping Skills
DESCRIPTION:A SunServe Self-Care Group to help you learn mindful tools encompassing emotion-focused and problem-focused strategies with body relaxation techniques.
URL:https://sunserve.org/event/mindful-coping-skills/2025-11-21/
LOCATION:AHF Community Room\, 700 SE 3rd Ave\, Floor 1\, Fort Lauderdale\, FL\, 33316\, United States
CATEGORIES:Self-Care Group
ATTACH;FMTTYPE=image/png:https://sunserve.org/wp-content/uploads/2025/11/coping-skills-sunserve-dec-2025.png
ORGANIZER;CN="SunServe Mental Health":MAILTO:info@sunserve.org
END:VEVENT
BEGIN:VEVENT
DTSTART;TZID=UTC:20251119T190000
DTEND;TZID=UTC:20251119T210000
DTSTAMP:20260423T120922
CREATED:20251118T203510Z
LAST-MODIFIED:20251118T204237Z
UID:10002001-1763578800-1763586000@sunserve.org
SUMMARY:Adult Youth Group
DESCRIPTION:Social Group for young adults ages 18-22. Adult Fall Celebration; thankfulness activity\, pumpkin decorating contest with hot cocoa\, & “great pumpkin Charlie Brown”
URL:https://sunserve.org/event/adult-youth-group-3/
LOCATION:SunServe Headquarters\, 750 SE 3rd Avenue\, Floor 3\, Fort Lauderdale\, FL\, 33316\, United States
CATEGORIES:Young Adult Social Group
END:VEVENT
BEGIN:VEVENT
DTSTART;TZID=UTC:20251119T183000
DTEND;TZID=UTC:20251119T200000
DTSTAMP:20260423T120922
CREATED:20251112T042638Z
LAST-MODIFIED:20251112T042744Z
UID:10000771-1763577000-1763582400@sunserve.org
SUMMARY:SAFE T Transgender Support Group
DESCRIPTION:This support group provides a safe space for transgender and gender-expansive folks to share life experiences with their peers. Led by a mental health professional.
URL:https://sunserve.org/event/safe-t-transgender-support-group/2025-11-19/
LOCATION:AHF Community Room\, 700 SE 3rd Ave\, Floor 1\, Fort Lauderdale\, FL\, 33316\, United States
CATEGORIES:Support Group
ATTACH;FMTTYPE=image/png:https://sunserve.org/wp-content/uploads/2025/10/SunServe-Safe-T-Support-Group-10-×-10-in-10-x-10.5-in-8.5-x-11-in-Instagram-Post-45.png
ORGANIZER;CN="SunServe Mental Health":MAILTO:info@sunserve.org
END:VEVENT
BEGIN:VEVENT
DTSTART;TZID=UTC:20251119T180000
DTEND;TZID=UTC:20251119T193000
DTSTAMP:20260423T120922
CREATED:20251112T043441Z
LAST-MODIFIED:20251112T043441Z
UID:10001093-1763575200-1763580600@sunserve.org
SUMMARY:SafeHarbor Therapy Group
DESCRIPTION:Safe Harbor is a weekly therapeutic group for gay\, bisexual & transgender men. We invite you to come and speak your mind about your life in South Florida with other GBT men. Led by a mental health professional.
URL:https://sunserve.org/event/safeharbor-therapy-group/2025-11-19/
LOCATION:SunServe Wilton Manors\, 2550 NE 15th Ave\, Fort Lauderdale\, FL\, 33305\, United States
CATEGORIES:Support Group
ATTACH;FMTTYPE=image/png:https://sunserve.org/wp-content/uploads/2025/10/Safe-Harbor-10-x-10-Instagram-Post-45.png
END:VEVENT
BEGIN:VEVENT
DTSTART;TZID=UTC:20251118T090000
DTEND;TZID=UTC:20251118T100000
DTSTAMP:20260423T120923
CREATED:20251112T042258Z
LAST-MODIFIED:20251215T000505Z
UID:10000508-1763456400-1763460000@sunserve.org
SUMMARY:Seated Chair Yoga
DESCRIPTION:Offering a calming and inclusive environment where participants can breathe\, stretch\, and relax while learning techniques to support overall well-being. These sessions promote balance\, mindfulness\, and relaxation.
URL:https://sunserve.org/event/seated-chair-yoga/2025-11-18/
LOCATION:AHF Community Room\, 700 SE 3rd Ave\, Floor 1\, Fort Lauderdale\, FL\, 33316\, United States
CATEGORIES:Support Group
ATTACH;FMTTYPE=image/png:https://sunserve.org/wp-content/uploads/2025/11/chair-yoga-sunserve-dec-2025.png
ORGANIZER;CN="SunServe Mental Health":MAILTO:info@sunserve.org
END:VEVENT
BEGIN:VEVENT
DTSTART;TZID=UTC:20251117T183000
DTEND;TZID=UTC:20251117T200000
DTSTAMP:20260423T120923
CREATED:20251112T001037Z
LAST-MODIFIED:20251113T172346Z
UID:10000006-1763404200-1763409600@sunserve.org
SUMMARY:Transmasculine Support Group
DESCRIPTION:Weekly\, virtual support group for transmasculine individuals to encourage\, listen\, talk\, and grow. Talk about your challenges & your triumphs. Led by a mental health professional.
URL:https://sunserve.org/event/transmasculine-support-group/2025-11-17/
LOCATION:Microsoft Teams
CATEGORIES:Support Group
ATTACH;FMTTYPE=image/webp:https://sunserve.org/wp-content/uploads/2025/11/Transmasculine-Support-Group-8.webp
ORGANIZER;CN="SunServe Mental Health":MAILTO:info@sunserve.org
END:VEVENT
BEGIN:VEVENT
DTSTART;TZID=UTC:20251116T140000
DTEND;TZID=UTC:20251116T153000
DTSTAMP:20260423T120923
CREATED:20251112T044028Z
LAST-MODIFIED:20251112T044028Z
UID:10001614-1763301600-1763307000@sunserve.org
SUMMARY:Our Time Expressive Art Therapy
DESCRIPTION:Out Time offers a warm\, uplifting\, and inclusive space where LGBTQ+ seniors can express themselves\, connect with others\, and explore their creativity in a supportive and joyful environment. Led by a social worker.
URL:https://sunserve.org/event/our-time-expressive-art-therapy/2025-11-16/
LOCATION:SunServe Headquarters\, 750 SE 3rd Avenue\, Floor 3\, Fort Lauderdale\, FL\, 33316\, United States
CATEGORIES:Support Group
ATTACH;FMTTYPE=image/png:https://sunserve.org/wp-content/uploads/2025/10/Our-Time-Support-Group-IG-Post-.png
ORGANIZER;CN="SunServe Mental Health":MAILTO:info@sunserve.org
END:VEVENT
BEGIN:VEVENT
DTSTART;TZID=UTC:20251114T110000
DTEND;TZID=UTC:20251114T130000
DTSTAMP:20260423T120923
CREATED:20251112T043134Z
LAST-MODIFIED:20251112T043134Z
UID:10001031-1763118000-1763125200@sunserve.org
SUMMARY:SilverServe Luncheons
DESCRIPTION:SunServe Seniors’ award-winning monthly luncheon\, led by social workers\, is a vibrant gathering that features a free catered meal\, engaging guest presenters\, and a surprise raffle. Co-sponsored by the City of Wilton Manors.
URL:https://sunserve.org/event/silverserve-luncheons/2025-11-14/
LOCATION:Hagen Park Community Center\, 2020 Wilton Drive\, Wilton Manors\, FL\, 33305\, United States
ATTACH;FMTTYPE=image/png:https://sunserve.org/wp-content/uploads/2025/10/SilverServe-generic-Instagram-Post-45.png
ORGANIZER;CN="SunServe Social Services":MAILTO:info@sunserve.org
END:VEVENT
BEGIN:VEVENT
DTSTART;TZID=UTC:20251114T090000
DTEND;TZID=UTC:20251114T100000
DTSTAMP:20260423T120923
CREATED:20251112T043827Z
LAST-MODIFIED:20251215T001028Z
UID:10001353-1763110800-1763114400@sunserve.org
SUMMARY:Mindful Coping Skills
DESCRIPTION:A SunServe Self-Care Group to help you learn mindful tools encompassing emotion-focused and problem-focused strategies with body relaxation techniques.
URL:https://sunserve.org/event/mindful-coping-skills/2025-11-14/
LOCATION:AHF Community Room\, 700 SE 3rd Ave\, Floor 1\, Fort Lauderdale\, FL\, 33316\, United States
CATEGORIES:Self-Care Group
ATTACH;FMTTYPE=image/png:https://sunserve.org/wp-content/uploads/2025/11/coping-skills-sunserve-dec-2025.png
ORGANIZER;CN="SunServe Mental Health":MAILTO:info@sunserve.org
END:VEVENT
BEGIN:VEVENT
DTSTART;TZID=UTC:20251112T183000
DTEND;TZID=UTC:20251112T200000
DTSTAMP:20260423T120923
CREATED:20251112T042638Z
LAST-MODIFIED:20251112T042744Z
UID:10000770-1762972200-1762977600@sunserve.org
SUMMARY:SAFE T Transgender Support Group
DESCRIPTION:This support group provides a safe space for transgender and gender-expansive folks to share life experiences with their peers. Led by a mental health professional.
URL:https://sunserve.org/event/safe-t-transgender-support-group/2025-11-12/
LOCATION:AHF Community Room\, 700 SE 3rd Ave\, Floor 1\, Fort Lauderdale\, FL\, 33316\, United States
CATEGORIES:Support Group
ATTACH;FMTTYPE=image/png:https://sunserve.org/wp-content/uploads/2025/10/SunServe-Safe-T-Support-Group-10-×-10-in-10-x-10.5-in-8.5-x-11-in-Instagram-Post-45.png
ORGANIZER;CN="SunServe Mental Health":MAILTO:info@sunserve.org
END:VEVENT
BEGIN:VEVENT
DTSTART;TZID=UTC:20251112T180000
DTEND;TZID=UTC:20251112T193000
DTSTAMP:20260423T120923
CREATED:20251112T043441Z
LAST-MODIFIED:20251112T043441Z
UID:10001092-1762970400-1762975800@sunserve.org
SUMMARY:SafeHarbor Therapy Group
DESCRIPTION:Safe Harbor is a weekly therapeutic group for gay\, bisexual & transgender men. We invite you to come and speak your mind about your life in South Florida with other GBT men. Led by a mental health professional.
URL:https://sunserve.org/event/safeharbor-therapy-group/2025-11-12/
LOCATION:SunServe Wilton Manors\, 2550 NE 15th Ave\, Fort Lauderdale\, FL\, 33305\, United States
CATEGORIES:Support Group
ATTACH;FMTTYPE=image/png:https://sunserve.org/wp-content/uploads/2025/10/Safe-Harbor-10-x-10-Instagram-Post-45.png
END:VEVENT
END:VCALENDAR