BEGIN:VCALENDAR
VERSION:2.0
PRODID:-//Sunserve - ECPv6.15.20//NONSGML v1.0//EN
CALSCALE:GREGORIAN
METHOD:PUBLISH
X-WR-CALNAME:Sunserve
X-ORIGINAL-URL:https://sunserve.org
X-WR-CALDESC:Events for Sunserve
REFRESH-INTERVAL;VALUE=DURATION:PT1H
X-Robots-Tag:noindex
X-PUBLISHED-TTL:PT1H
BEGIN:VTIMEZONE
TZID:UTC
BEGIN:STANDARD
TZOFFSETFROM:+0000
TZOFFSETTO:+0000
TZNAME:UTC
DTSTART:20250101T000000
END:STANDARD
END:VTIMEZONE
BEGIN:VEVENT
DTSTART;TZID=UTC:20261115T140000
DTEND;TZID=UTC:20261115T153000
DTSTAMP:20260423T061510
CREATED:20251112T044028Z
LAST-MODIFIED:20251112T044028Z
UID:10001666-1794751200-1794756600@sunserve.org
SUMMARY:Our Time Expressive Art Therapy
DESCRIPTION:Out Time offers a warm\, uplifting\, and inclusive space where LGBTQ+ seniors can express themselves\, connect with others\, and explore their creativity in a supportive and joyful environment. Led by a social worker.
URL:https://sunserve.org/event/our-time-expressive-art-therapy/2026-11-15/
LOCATION:SunServe Headquarters\, 750 SE 3rd Avenue\, Floor 3\, Fort Lauderdale\, FL\, 33316\, United States
CATEGORIES:Support Group
ATTACH;FMTTYPE=image/png:https://sunserve.org/wp-content/uploads/2025/10/Our-Time-Support-Group-IG-Post-.png
ORGANIZER;CN="SunServe Mental Health":MAILTO:info@sunserve.org
END:VEVENT
BEGIN:VEVENT
DTSTART;TZID=UTC:20261116T183000
DTEND;TZID=UTC:20261116T200000
DTSTAMP:20260423T061510
CREATED:20251112T001037Z
LAST-MODIFIED:20251113T172346Z
UID:10000058-1794853800-1794859200@sunserve.org
SUMMARY:Transmasculine Support Group
DESCRIPTION:Weekly\, virtual support group for transmasculine individuals to encourage\, listen\, talk\, and grow. Talk about your challenges & your triumphs. Led by a mental health professional.
URL:https://sunserve.org/event/transmasculine-support-group/2026-11-16/
LOCATION:Microsoft Teams
CATEGORIES:Support Group
ATTACH;FMTTYPE=image/webp:https://sunserve.org/wp-content/uploads/2025/11/Transmasculine-Support-Group-8.webp
ORGANIZER;CN="SunServe Mental Health":MAILTO:info@sunserve.org
END:VEVENT
BEGIN:VEVENT
DTSTART;TZID=UTC:20261117T090000
DTEND;TZID=UTC:20261117T100000
DTSTAMP:20260423T061510
CREATED:20251112T042258Z
LAST-MODIFIED:20251215T000505Z
UID:10000560-1794906000-1794909600@sunserve.org
SUMMARY:Seated Chair Yoga
DESCRIPTION:Offering a calming and inclusive environment where participants can breathe\, stretch\, and relax while learning techniques to support overall well-being. These sessions promote balance\, mindfulness\, and relaxation.
URL:https://sunserve.org/event/seated-chair-yoga/2026-11-17/
LOCATION:AHF Community Room\, 700 SE 3rd Ave\, Floor 1\, Fort Lauderdale\, FL\, 33316\, United States
CATEGORIES:Support Group
ATTACH;FMTTYPE=image/png:https://sunserve.org/wp-content/uploads/2025/11/chair-yoga-sunserve-dec-2025.png
ORGANIZER;CN="SunServe Mental Health":MAILTO:info@sunserve.org
END:VEVENT
BEGIN:VEVENT
DTSTART;TZID=UTC:20261118T180000
DTEND;TZID=UTC:20261118T193000
DTSTAMP:20260423T061510
CREATED:20251112T043441Z
LAST-MODIFIED:20251112T043441Z
UID:10001145-1795024800-1795030200@sunserve.org
SUMMARY:SafeHarbor Therapy Group
DESCRIPTION:Safe Harbor is a weekly therapeutic group for gay\, bisexual & transgender men. We invite you to come and speak your mind about your life in South Florida with other GBT men. Led by a mental health professional.
URL:https://sunserve.org/event/safeharbor-therapy-group/2026-11-18/
LOCATION:SunServe Wilton Manors\, 2550 NE 15th Ave\, Fort Lauderdale\, FL\, 33305\, United States
CATEGORIES:Support Group
ATTACH;FMTTYPE=image/png:https://sunserve.org/wp-content/uploads/2025/10/Safe-Harbor-10-x-10-Instagram-Post-45.png
END:VEVENT
BEGIN:VEVENT
DTSTART;TZID=UTC:20261118T183000
DTEND;TZID=UTC:20261118T200000
DTSTAMP:20260423T061510
CREATED:20251112T042638Z
LAST-MODIFIED:20251112T042744Z
UID:10000823-1795026600-1795032000@sunserve.org
SUMMARY:SAFE T Transgender Support Group
DESCRIPTION:This support group provides a safe space for transgender and gender-expansive folks to share life experiences with their peers. Led by a mental health professional.
URL:https://sunserve.org/event/safe-t-transgender-support-group/2026-11-18/
LOCATION:AHF Community Room\, 700 SE 3rd Ave\, Floor 1\, Fort Lauderdale\, FL\, 33316\, United States
CATEGORIES:Support Group
ATTACH;FMTTYPE=image/png:https://sunserve.org/wp-content/uploads/2025/10/SunServe-Safe-T-Support-Group-10-×-10-in-10-x-10.5-in-8.5-x-11-in-Instagram-Post-45.png
ORGANIZER;CN="SunServe Mental Health":MAILTO:info@sunserve.org
END:VEVENT
BEGIN:VEVENT
DTSTART;TZID=UTC:20261122T140000
DTEND;TZID=UTC:20261122T153000
DTSTAMP:20260423T061510
CREATED:20251112T044028Z
LAST-MODIFIED:20251112T044028Z
UID:10001667-1795356000-1795361400@sunserve.org
SUMMARY:Our Time Expressive Art Therapy
DESCRIPTION:Out Time offers a warm\, uplifting\, and inclusive space where LGBTQ+ seniors can express themselves\, connect with others\, and explore their creativity in a supportive and joyful environment. Led by a social worker.
URL:https://sunserve.org/event/our-time-expressive-art-therapy/2026-11-22/
LOCATION:SunServe Headquarters\, 750 SE 3rd Avenue\, Floor 3\, Fort Lauderdale\, FL\, 33316\, United States
CATEGORIES:Support Group
ATTACH;FMTTYPE=image/png:https://sunserve.org/wp-content/uploads/2025/10/Our-Time-Support-Group-IG-Post-.png
ORGANIZER;CN="SunServe Mental Health":MAILTO:info@sunserve.org
END:VEVENT
BEGIN:VEVENT
DTSTART;TZID=UTC:20261123T183000
DTEND;TZID=UTC:20261123T200000
DTSTAMP:20260423T061510
CREATED:20251112T001037Z
LAST-MODIFIED:20251113T172346Z
UID:10000059-1795458600-1795464000@sunserve.org
SUMMARY:Transmasculine Support Group
DESCRIPTION:Weekly\, virtual support group for transmasculine individuals to encourage\, listen\, talk\, and grow. Talk about your challenges & your triumphs. Led by a mental health professional.
URL:https://sunserve.org/event/transmasculine-support-group/2026-11-23/
LOCATION:Microsoft Teams
CATEGORIES:Support Group
ATTACH;FMTTYPE=image/webp:https://sunserve.org/wp-content/uploads/2025/11/Transmasculine-Support-Group-8.webp
ORGANIZER;CN="SunServe Mental Health":MAILTO:info@sunserve.org
END:VEVENT
BEGIN:VEVENT
DTSTART;TZID=UTC:20261123T193000
DTEND;TZID=UTC:20261123T210000
DTSTAMP:20260423T061510
CREATED:20251112T003727Z
LAST-MODIFIED:20251118T200618Z
UID:10000340-1795462200-1795467600@sunserve.org
SUMMARY:Different Drummer/SOFFA Support Group (in-person)
DESCRIPTION:This group is intended for those with transgender loved ones who wish to support & understand them better. This group allows folks to share their thoughts & feelings with individuals who’ve had similar experiences. Led by a mental health professional.
URL:https://sunserve.org/event/soffa-support-group-in-person/2026-11-23/
LOCATION:SunServe Headquarters\, 750 SE 3rd Avenue\, Floor 3\, Fort Lauderdale\, FL\, 33316\, United States
CATEGORIES:Support Group
ATTACH;FMTTYPE=image/png:https://sunserve.org/wp-content/uploads/2025/10/SOFFA-Support-Group-10x10-Instagram-Post-45-1.png
ORGANIZER;CN="SunServe Mental Health":MAILTO:info@sunserve.org
END:VEVENT
BEGIN:VEVENT
DTSTART;TZID=UTC:20261124T090000
DTEND;TZID=UTC:20261124T100000
DTSTAMP:20260423T061510
CREATED:20251112T042258Z
LAST-MODIFIED:20251215T000505Z
UID:10000561-1795510800-1795514400@sunserve.org
SUMMARY:Seated Chair Yoga
DESCRIPTION:Offering a calming and inclusive environment where participants can breathe\, stretch\, and relax while learning techniques to support overall well-being. These sessions promote balance\, mindfulness\, and relaxation.
URL:https://sunserve.org/event/seated-chair-yoga/2026-11-24/
LOCATION:AHF Community Room\, 700 SE 3rd Ave\, Floor 1\, Fort Lauderdale\, FL\, 33316\, United States
CATEGORIES:Support Group
ATTACH;FMTTYPE=image/png:https://sunserve.org/wp-content/uploads/2025/11/chair-yoga-sunserve-dec-2025.png
ORGANIZER;CN="SunServe Mental Health":MAILTO:info@sunserve.org
END:VEVENT
BEGIN:VEVENT
DTSTART;TZID=UTC:20261125T180000
DTEND;TZID=UTC:20261125T193000
DTSTAMP:20260423T061510
CREATED:20251112T043441Z
LAST-MODIFIED:20251112T043441Z
UID:10001146-1795629600-1795635000@sunserve.org
SUMMARY:SafeHarbor Therapy Group
DESCRIPTION:Safe Harbor is a weekly therapeutic group for gay\, bisexual & transgender men. We invite you to come and speak your mind about your life in South Florida with other GBT men. Led by a mental health professional.
URL:https://sunserve.org/event/safeharbor-therapy-group/2026-11-25/
LOCATION:SunServe Wilton Manors\, 2550 NE 15th Ave\, Fort Lauderdale\, FL\, 33305\, United States
CATEGORIES:Support Group
ATTACH;FMTTYPE=image/png:https://sunserve.org/wp-content/uploads/2025/10/Safe-Harbor-10-x-10-Instagram-Post-45.png
END:VEVENT
BEGIN:VEVENT
DTSTART;TZID=UTC:20261125T183000
DTEND;TZID=UTC:20261125T200000
DTSTAMP:20260423T061510
CREATED:20251112T042638Z
LAST-MODIFIED:20251112T042744Z
UID:10000824-1795631400-1795636800@sunserve.org
SUMMARY:SAFE T Transgender Support Group
DESCRIPTION:This support group provides a safe space for transgender and gender-expansive folks to share life experiences with their peers. Led by a mental health professional.
URL:https://sunserve.org/event/safe-t-transgender-support-group/2026-11-25/
LOCATION:AHF Community Room\, 700 SE 3rd Ave\, Floor 1\, Fort Lauderdale\, FL\, 33316\, United States
CATEGORIES:Support Group
ATTACH;FMTTYPE=image/png:https://sunserve.org/wp-content/uploads/2025/10/SunServe-Safe-T-Support-Group-10-×-10-in-10-x-10.5-in-8.5-x-11-in-Instagram-Post-45.png
ORGANIZER;CN="SunServe Mental Health":MAILTO:info@sunserve.org
END:VEVENT
BEGIN:VEVENT
DTSTART;TZID=UTC:20261129T140000
DTEND;TZID=UTC:20261129T153000
DTSTAMP:20260423T061510
CREATED:20251112T044028Z
LAST-MODIFIED:20251112T044028Z
UID:10001668-1795960800-1795966200@sunserve.org
SUMMARY:Our Time Expressive Art Therapy
DESCRIPTION:Out Time offers a warm\, uplifting\, and inclusive space where LGBTQ+ seniors can express themselves\, connect with others\, and explore their creativity in a supportive and joyful environment. Led by a social worker.
URL:https://sunserve.org/event/our-time-expressive-art-therapy/2026-11-29/
LOCATION:SunServe Headquarters\, 750 SE 3rd Avenue\, Floor 3\, Fort Lauderdale\, FL\, 33316\, United States
CATEGORIES:Support Group
ATTACH;FMTTYPE=image/png:https://sunserve.org/wp-content/uploads/2025/10/Our-Time-Support-Group-IG-Post-.png
ORGANIZER;CN="SunServe Mental Health":MAILTO:info@sunserve.org
END:VEVENT
BEGIN:VEVENT
DTSTART;TZID=UTC:20261130T183000
DTEND;TZID=UTC:20261130T200000
DTSTAMP:20260423T061510
CREATED:20251112T001037Z
LAST-MODIFIED:20251113T172346Z
UID:10000060-1796063400-1796068800@sunserve.org
SUMMARY:Transmasculine Support Group
DESCRIPTION:Weekly\, virtual support group for transmasculine individuals to encourage\, listen\, talk\, and grow. Talk about your challenges & your triumphs. Led by a mental health professional.
URL:https://sunserve.org/event/transmasculine-support-group/2026-11-30/
LOCATION:Microsoft Teams
CATEGORIES:Support Group
ATTACH;FMTTYPE=image/webp:https://sunserve.org/wp-content/uploads/2025/11/Transmasculine-Support-Group-8.webp
ORGANIZER;CN="SunServe Mental Health":MAILTO:info@sunserve.org
END:VEVENT
BEGIN:VEVENT
DTSTART;TZID=UTC:20261201T090000
DTEND;TZID=UTC:20261201T100000
DTSTAMP:20260423T061510
CREATED:20251112T042258Z
LAST-MODIFIED:20251215T000505Z
UID:10000562-1796115600-1796119200@sunserve.org
SUMMARY:Seated Chair Yoga
DESCRIPTION:Offering a calming and inclusive environment where participants can breathe\, stretch\, and relax while learning techniques to support overall well-being. These sessions promote balance\, mindfulness\, and relaxation.
URL:https://sunserve.org/event/seated-chair-yoga/2026-12-01/
LOCATION:AHF Community Room\, 700 SE 3rd Ave\, Floor 1\, Fort Lauderdale\, FL\, 33316\, United States
CATEGORIES:Support Group
ATTACH;FMTTYPE=image/png:https://sunserve.org/wp-content/uploads/2025/11/chair-yoga-sunserve-dec-2025.png
ORGANIZER;CN="SunServe Mental Health":MAILTO:info@sunserve.org
END:VEVENT
BEGIN:VEVENT
DTSTART;TZID=UTC:20261202T180000
DTEND;TZID=UTC:20261202T193000
DTSTAMP:20260423T061510
CREATED:20251112T043441Z
LAST-MODIFIED:20251112T043441Z
UID:10001147-1796234400-1796239800@sunserve.org
SUMMARY:SafeHarbor Therapy Group
DESCRIPTION:Safe Harbor is a weekly therapeutic group for gay\, bisexual & transgender men. We invite you to come and speak your mind about your life in South Florida with other GBT men. Led by a mental health professional.
URL:https://sunserve.org/event/safeharbor-therapy-group/2026-12-02/
LOCATION:SunServe Wilton Manors\, 2550 NE 15th Ave\, Fort Lauderdale\, FL\, 33305\, United States
CATEGORIES:Support Group
ATTACH;FMTTYPE=image/png:https://sunserve.org/wp-content/uploads/2025/10/Safe-Harbor-10-x-10-Instagram-Post-45.png
END:VEVENT
BEGIN:VEVENT
DTSTART;TZID=UTC:20261202T183000
DTEND;TZID=UTC:20261202T200000
DTSTAMP:20260423T061510
CREATED:20251112T042638Z
LAST-MODIFIED:20251112T042744Z
UID:10000825-1796236200-1796241600@sunserve.org
SUMMARY:SAFE T Transgender Support Group
DESCRIPTION:This support group provides a safe space for transgender and gender-expansive folks to share life experiences with their peers. Led by a mental health professional.
URL:https://sunserve.org/event/safe-t-transgender-support-group/2026-12-02/
LOCATION:AHF Community Room\, 700 SE 3rd Ave\, Floor 1\, Fort Lauderdale\, FL\, 33316\, United States
CATEGORIES:Support Group
ATTACH;FMTTYPE=image/png:https://sunserve.org/wp-content/uploads/2025/10/SunServe-Safe-T-Support-Group-10-×-10-in-10-x-10.5-in-8.5-x-11-in-Instagram-Post-45.png
ORGANIZER;CN="SunServe Mental Health":MAILTO:info@sunserve.org
END:VEVENT
BEGIN:VEVENT
DTSTART;TZID=UTC:20261206T140000
DTEND;TZID=UTC:20261206T153000
DTSTAMP:20260423T061510
CREATED:20251112T044028Z
LAST-MODIFIED:20251112T044028Z
UID:10001669-1796565600-1796571000@sunserve.org
SUMMARY:Our Time Expressive Art Therapy
DESCRIPTION:Out Time offers a warm\, uplifting\, and inclusive space where LGBTQ+ seniors can express themselves\, connect with others\, and explore their creativity in a supportive and joyful environment. Led by a social worker.
URL:https://sunserve.org/event/our-time-expressive-art-therapy/2026-12-06/
LOCATION:SunServe Headquarters\, 750 SE 3rd Avenue\, Floor 3\, Fort Lauderdale\, FL\, 33316\, United States
CATEGORIES:Support Group
ATTACH;FMTTYPE=image/png:https://sunserve.org/wp-content/uploads/2025/10/Our-Time-Support-Group-IG-Post-.png
ORGANIZER;CN="SunServe Mental Health":MAILTO:info@sunserve.org
END:VEVENT
BEGIN:VEVENT
DTSTART;TZID=UTC:20261207T183000
DTEND;TZID=UTC:20261207T200000
DTSTAMP:20260423T061510
CREATED:20251112T001037Z
LAST-MODIFIED:20251113T172346Z
UID:10000061-1796668200-1796673600@sunserve.org
SUMMARY:Transmasculine Support Group
DESCRIPTION:Weekly\, virtual support group for transmasculine individuals to encourage\, listen\, talk\, and grow. Talk about your challenges & your triumphs. Led by a mental health professional.
URL:https://sunserve.org/event/transmasculine-support-group/2026-12-07/
LOCATION:Microsoft Teams
CATEGORIES:Support Group
ATTACH;FMTTYPE=image/webp:https://sunserve.org/wp-content/uploads/2025/11/Transmasculine-Support-Group-8.webp
ORGANIZER;CN="SunServe Mental Health":MAILTO:info@sunserve.org
END:VEVENT
BEGIN:VEVENT
DTSTART;TZID=UTC:20261208T090000
DTEND;TZID=UTC:20261208T100000
DTSTAMP:20260423T061510
CREATED:20251112T042258Z
LAST-MODIFIED:20251215T000505Z
UID:10000563-1796720400-1796724000@sunserve.org
SUMMARY:Seated Chair Yoga
DESCRIPTION:Offering a calming and inclusive environment where participants can breathe\, stretch\, and relax while learning techniques to support overall well-being. These sessions promote balance\, mindfulness\, and relaxation.
URL:https://sunserve.org/event/seated-chair-yoga/2026-12-08/
LOCATION:AHF Community Room\, 700 SE 3rd Ave\, Floor 1\, Fort Lauderdale\, FL\, 33316\, United States
CATEGORIES:Support Group
ATTACH;FMTTYPE=image/png:https://sunserve.org/wp-content/uploads/2025/11/chair-yoga-sunserve-dec-2025.png
ORGANIZER;CN="SunServe Mental Health":MAILTO:info@sunserve.org
END:VEVENT
BEGIN:VEVENT
DTSTART;TZID=UTC:20261208T190000
DTEND;TZID=UTC:20261208T203000
DTSTAMP:20260423T061510
CREATED:20251112T041526Z
LAST-MODIFIED:20251112T041637Z
UID:10000460-1796756400-1796761800@sunserve.org
SUMMARY:Veterans & Active Duty LGBTQ+ Group
DESCRIPTION:A monthly peer support group to provide communication\, camaraderie & support for any LGBTQ+ veteran or active-duty individual. A safe place to talk about your experiences in and outside of the military. This is a peer-led group.
URL:https://sunserve.org/event/veterans-active-duty-lgbtq-group/2026-12-08/
LOCATION:SunServe Wilton Manors\, 2550 NE 15th Ave\, Fort Lauderdale\, FL\, 33305\, United States
CATEGORIES:Support Group
ATTACH;FMTTYPE=image/png:https://sunserve.org/wp-content/uploads/2025/10/AVER-Veterans-Support-Group-10x10-6.png
ORGANIZER;CN="SunServe Events":MAILTO:info@sunserve.org
END:VEVENT
BEGIN:VEVENT
DTSTART;TZID=UTC:20261209T180000
DTEND;TZID=UTC:20261209T193000
DTSTAMP:20260423T061510
CREATED:20251112T043441Z
LAST-MODIFIED:20251112T043441Z
UID:10001148-1796839200-1796844600@sunserve.org
SUMMARY:SafeHarbor Therapy Group
DESCRIPTION:Safe Harbor is a weekly therapeutic group for gay\, bisexual & transgender men. We invite you to come and speak your mind about your life in South Florida with other GBT men. Led by a mental health professional.
URL:https://sunserve.org/event/safeharbor-therapy-group/2026-12-09/
LOCATION:SunServe Wilton Manors\, 2550 NE 15th Ave\, Fort Lauderdale\, FL\, 33305\, United States
CATEGORIES:Support Group
ATTACH;FMTTYPE=image/png:https://sunserve.org/wp-content/uploads/2025/10/Safe-Harbor-10-x-10-Instagram-Post-45.png
END:VEVENT
BEGIN:VEVENT
DTSTART;TZID=UTC:20261209T183000
DTEND;TZID=UTC:20261209T200000
DTSTAMP:20260423T061510
CREATED:20251112T042638Z
LAST-MODIFIED:20251112T042744Z
UID:10000826-1796841000-1796846400@sunserve.org
SUMMARY:SAFE T Transgender Support Group
DESCRIPTION:This support group provides a safe space for transgender and gender-expansive folks to share life experiences with their peers. Led by a mental health professional.
URL:https://sunserve.org/event/safe-t-transgender-support-group/2026-12-09/
LOCATION:AHF Community Room\, 700 SE 3rd Ave\, Floor 1\, Fort Lauderdale\, FL\, 33316\, United States
CATEGORIES:Support Group
ATTACH;FMTTYPE=image/png:https://sunserve.org/wp-content/uploads/2025/10/SunServe-Safe-T-Support-Group-10-×-10-in-10-x-10.5-in-8.5-x-11-in-Instagram-Post-45.png
ORGANIZER;CN="SunServe Mental Health":MAILTO:info@sunserve.org
END:VEVENT
BEGIN:VEVENT
DTSTART;TZID=UTC:20261213T140000
DTEND;TZID=UTC:20261213T153000
DTSTAMP:20260423T061510
CREATED:20251112T044028Z
LAST-MODIFIED:20251112T044028Z
UID:10001670-1797170400-1797175800@sunserve.org
SUMMARY:Our Time Expressive Art Therapy
DESCRIPTION:Out Time offers a warm\, uplifting\, and inclusive space where LGBTQ+ seniors can express themselves\, connect with others\, and explore their creativity in a supportive and joyful environment. Led by a social worker.
URL:https://sunserve.org/event/our-time-expressive-art-therapy/2026-12-13/
LOCATION:SunServe Headquarters\, 750 SE 3rd Avenue\, Floor 3\, Fort Lauderdale\, FL\, 33316\, United States
CATEGORIES:Support Group
ATTACH;FMTTYPE=image/png:https://sunserve.org/wp-content/uploads/2025/10/Our-Time-Support-Group-IG-Post-.png
ORGANIZER;CN="SunServe Mental Health":MAILTO:info@sunserve.org
END:VEVENT
BEGIN:VEVENT
DTSTART;TZID=UTC:20261214T183000
DTEND;TZID=UTC:20261214T200000
DTSTAMP:20260423T061510
CREATED:20251112T001037Z
LAST-MODIFIED:20251113T172346Z
UID:10000062-1797273000-1797278400@sunserve.org
SUMMARY:Transmasculine Support Group
DESCRIPTION:Weekly\, virtual support group for transmasculine individuals to encourage\, listen\, talk\, and grow. Talk about your challenges & your triumphs. Led by a mental health professional.
URL:https://sunserve.org/event/transmasculine-support-group/2026-12-14/
LOCATION:Microsoft Teams
CATEGORIES:Support Group
ATTACH;FMTTYPE=image/webp:https://sunserve.org/wp-content/uploads/2025/11/Transmasculine-Support-Group-8.webp
ORGANIZER;CN="SunServe Mental Health":MAILTO:info@sunserve.org
END:VEVENT
BEGIN:VEVENT
DTSTART;TZID=UTC:20261214T193000
DTEND;TZID=UTC:20261214T210000
DTSTAMP:20260423T061510
CREATED:20251112T003346Z
LAST-MODIFIED:20251118T200537Z
UID:10000400-1797276600-1797282000@sunserve.org
SUMMARY:Different Drummer/SOFFA Support Group (online)
DESCRIPTION:This group is intended for those with transgender loved ones who wish to support & understand them better. This group allows folks to share their thoughts & feelings with individuals who’ve had similar experiences. Led by a mental health professional.
URL:https://sunserve.org/event/soffa-support-group-online/2026-12-14/
LOCATION:Microsoft Teams
CATEGORIES:Support Group
ATTACH;FMTTYPE=image/png:https://sunserve.org/wp-content/uploads/2025/10/SOFFA-Support-Group-10x10-Instagram-Post-45-1.png
ORGANIZER;CN="SunServe Mental Health":MAILTO:info@sunserve.org
END:VEVENT
BEGIN:VEVENT
DTSTART;TZID=UTC:20261215T090000
DTEND;TZID=UTC:20261215T100000
DTSTAMP:20260423T061510
CREATED:20251112T042258Z
LAST-MODIFIED:20251215T000505Z
UID:10000564-1797325200-1797328800@sunserve.org
SUMMARY:Seated Chair Yoga
DESCRIPTION:Offering a calming and inclusive environment where participants can breathe\, stretch\, and relax while learning techniques to support overall well-being. These sessions promote balance\, mindfulness\, and relaxation.
URL:https://sunserve.org/event/seated-chair-yoga/2026-12-15/
LOCATION:AHF Community Room\, 700 SE 3rd Ave\, Floor 1\, Fort Lauderdale\, FL\, 33316\, United States
CATEGORIES:Support Group
ATTACH;FMTTYPE=image/png:https://sunserve.org/wp-content/uploads/2025/11/chair-yoga-sunserve-dec-2025.png
ORGANIZER;CN="SunServe Mental Health":MAILTO:info@sunserve.org
END:VEVENT
BEGIN:VEVENT
DTSTART;TZID=UTC:20261216T180000
DTEND;TZID=UTC:20261216T193000
DTSTAMP:20260423T061510
CREATED:20251112T043441Z
LAST-MODIFIED:20251112T043441Z
UID:10001149-1797444000-1797449400@sunserve.org
SUMMARY:SafeHarbor Therapy Group
DESCRIPTION:Safe Harbor is a weekly therapeutic group for gay\, bisexual & transgender men. We invite you to come and speak your mind about your life in South Florida with other GBT men. Led by a mental health professional.
URL:https://sunserve.org/event/safeharbor-therapy-group/2026-12-16/
LOCATION:SunServe Wilton Manors\, 2550 NE 15th Ave\, Fort Lauderdale\, FL\, 33305\, United States
CATEGORIES:Support Group
ATTACH;FMTTYPE=image/png:https://sunserve.org/wp-content/uploads/2025/10/Safe-Harbor-10-x-10-Instagram-Post-45.png
END:VEVENT
BEGIN:VEVENT
DTSTART;TZID=UTC:20261216T183000
DTEND;TZID=UTC:20261216T200000
DTSTAMP:20260423T061510
CREATED:20251112T042638Z
LAST-MODIFIED:20251112T042744Z
UID:10000827-1797445800-1797451200@sunserve.org
SUMMARY:SAFE T Transgender Support Group
DESCRIPTION:This support group provides a safe space for transgender and gender-expansive folks to share life experiences with their peers. Led by a mental health professional.
URL:https://sunserve.org/event/safe-t-transgender-support-group/2026-12-16/
LOCATION:AHF Community Room\, 700 SE 3rd Ave\, Floor 1\, Fort Lauderdale\, FL\, 33316\, United States
CATEGORIES:Support Group
ATTACH;FMTTYPE=image/png:https://sunserve.org/wp-content/uploads/2025/10/SunServe-Safe-T-Support-Group-10-×-10-in-10-x-10.5-in-8.5-x-11-in-Instagram-Post-45.png
ORGANIZER;CN="SunServe Mental Health":MAILTO:info@sunserve.org
END:VEVENT
BEGIN:VEVENT
DTSTART;TZID=UTC:20261220T140000
DTEND;TZID=UTC:20261220T153000
DTSTAMP:20260423T061510
CREATED:20251112T044028Z
LAST-MODIFIED:20251112T044028Z
UID:10001671-1797775200-1797780600@sunserve.org
SUMMARY:Our Time Expressive Art Therapy
DESCRIPTION:Out Time offers a warm\, uplifting\, and inclusive space where LGBTQ+ seniors can express themselves\, connect with others\, and explore their creativity in a supportive and joyful environment. Led by a social worker.
URL:https://sunserve.org/event/our-time-expressive-art-therapy/2026-12-20/
LOCATION:SunServe Headquarters\, 750 SE 3rd Avenue\, Floor 3\, Fort Lauderdale\, FL\, 33316\, United States
CATEGORIES:Support Group
ATTACH;FMTTYPE=image/png:https://sunserve.org/wp-content/uploads/2025/10/Our-Time-Support-Group-IG-Post-.png
ORGANIZER;CN="SunServe Mental Health":MAILTO:info@sunserve.org
END:VEVENT
BEGIN:VEVENT
DTSTART;TZID=UTC:20261221T183000
DTEND;TZID=UTC:20261221T200000
DTSTAMP:20260423T061510
CREATED:20251112T001037Z
LAST-MODIFIED:20251113T172346Z
UID:10000063-1797877800-1797883200@sunserve.org
SUMMARY:Transmasculine Support Group
DESCRIPTION:Weekly\, virtual support group for transmasculine individuals to encourage\, listen\, talk\, and grow. Talk about your challenges & your triumphs. Led by a mental health professional.
URL:https://sunserve.org/event/transmasculine-support-group/2026-12-21/
LOCATION:Microsoft Teams
CATEGORIES:Support Group
ATTACH;FMTTYPE=image/webp:https://sunserve.org/wp-content/uploads/2025/11/Transmasculine-Support-Group-8.webp
ORGANIZER;CN="SunServe Mental Health":MAILTO:info@sunserve.org
END:VEVENT
END:VCALENDAR