BEGIN:VCALENDAR
VERSION:2.0
PRODID:-//Sunserve - ECPv6.15.20//NONSGML v1.0//EN
CALSCALE:GREGORIAN
METHOD:PUBLISH
X-WR-CALNAME:Sunserve
X-ORIGINAL-URL:https://sunserve.org
X-WR-CALDESC:Events for Sunserve
REFRESH-INTERVAL;VALUE=DURATION:PT1H
X-Robots-Tag:noindex
X-PUBLISHED-TTL:PT1H
BEGIN:VTIMEZONE
TZID:UTC
BEGIN:STANDARD
TZOFFSETFROM:+0000
TZOFFSETTO:+0000
TZNAME:UTC
DTSTART:20250101T000000
END:STANDARD
END:VTIMEZONE
BEGIN:VEVENT
DTSTART;TZID=UTC:20260424T090000
DTEND;TZID=UTC:20260424T100000
DTSTAMP:20260424T100041
CREATED:20251112T043827Z
LAST-MODIFIED:20251215T001028Z
UID:10001376-1777021200-1777024800@sunserve.org
SUMMARY:Mindful Coping Skills
DESCRIPTION:A SunServe Self-Care Group to help you learn mindful tools encompassing emotion-focused and problem-focused strategies with body relaxation techniques.
URL:https://sunserve.org/event/mindful-coping-skills/2026-04-24/
LOCATION:AHF Community Room\, 700 SE 3rd Ave\, Floor 1\, Fort Lauderdale\, FL\, 33316\, United States
CATEGORIES:Self-Care Group
ATTACH;FMTTYPE=image/png:https://sunserve.org/wp-content/uploads/2025/11/coping-skills-sunserve-dec-2025.png
ORGANIZER;CN="SunServe Mental Health":MAILTO:info@sunserve.org
END:VEVENT
BEGIN:VEVENT
DTSTART;TZID=UTC:20260424T183000
DTEND;TZID=UTC:20260425T213000
DTSTAMP:20260424T100041
CREATED:20260306T161428Z
LAST-MODIFIED:20260306T161428Z
UID:10002856-1777055400-1777152600@sunserve.org
SUMMARY:Open Mic Night
DESCRIPTION:A space for performers of all ages\, backgrounds\, and identities to share their creativity in a supportive and judgment-free environment. All arts welcome! \nEvery last Friday of the month! \nDoors @ 6:30pm \nPerformances start @ 7pm
URL:https://sunserve.org/event/open-mic-night-2/2026-04-24/
LOCATION:Filomena’s Bean Coffee (DAVIE)\, 13610 W STATE RD 84\, Davie\, FL\, 33325\, United States
CATEGORIES:Social Event
ATTACH;FMTTYPE=image/jpeg:https://sunserve.org/wp-content/uploads/2026/03/Copy-of-SunServe-Open-Mic-Flyer-Version.jpg
ORGANIZER;CN="SunServe Events":MAILTO:info@sunserve.org
END:VEVENT
END:VCALENDAR